BEGIN:VCALENDAR
VERSION:2.0
PRODID:-//Tennessee Gas Association - ECPv4.6.6//NONSGML v1.0//EN
CALSCALE:GREGORIAN
METHOD:PUBLISH
X-WR-CALNAME:Tennessee Gas Association
X-ORIGINAL-URL:https://www.tngas.org
X-WR-CALDESC:Events for Tennessee Gas Association
BEGIN:VEVENT
DTSTART;VALUE=DATE:20260820
DTEND;VALUE=DATE:20260821
DTSTAMP:20260421T103029
CREATED:20200402T171849Z
LAST-MODIFIED:20260317T150524Z
UID:381-1787184000-1787270399@www.tngas.org
SUMMARY:Scholarship Foundation Golf Tournament
DESCRIPTION: \n  \n
URL:https://www.tngas.org/event/scholarship-foundation-golf-tournament/
LOCATION:3939 Old Hickory Blvd.\, Old Hickory\, TN\, 37138
ORGANIZER;CN="Tennessee%20Gas%20Association":MAILTO:jwellman@tngas.org
END:VEVENT
END:VCALENDAR