BEGIN:VCALENDAR
VERSION:2.0
PRODID:-//Tennessee Gas Association - ECPv4.6.6//NONSGML v1.0//EN
CALSCALE:GREGORIAN
METHOD:PUBLISH
X-WR-CALNAME:Tennessee Gas Association
X-ORIGINAL-URL:https://www.tngas.org
X-WR-CALDESC:Events for Tennessee Gas Association
BEGIN:VEVENT
DTSTART;VALUE=DATE:20240716
DTEND;VALUE=DATE:20240719
DTSTAMP:20260419T151213
CREATED:20200402T165556Z
LAST-MODIFIED:20240423T144856Z
UID:349-1721088000-1721347199@www.tngas.org
SUMMARY:ICC 2021 International Fuel Gas Code School - Jackson\, TN
DESCRIPTION: \n
URL:https://www.tngas.org/event/full-3%e2%80%90day-2018-icc-fuel-gas-codes-school/
LOCATION:119 East College St.\, Jackson\, TN\, 38301
ORGANIZER;CN="Tennessee%20Gas%20Association":MAILTO:jwellman@tngas.org
END:VEVENT
END:VCALENDAR