BEGIN:VCALENDAR
VERSION:2.0
PRODID:-//Tennessee Gas Association - ECPv4.6.6//NONSGML v1.0//EN
CALSCALE:GREGORIAN
METHOD:PUBLISH
X-WR-CALNAME:Tennessee Gas Association
X-ORIGINAL-URL:https://www.tngas.org
X-WR-CALDESC:Events for Tennessee Gas Association
BEGIN:VEVENT
DTSTART;TZID=UTC+0:20241112T090000
DTEND;TZID=UTC+0:20241112T150000
DTSTAMP:20260421T091834
CREATED:20240924T142256Z
LAST-MODIFIED:20240924T142256Z
UID:3568-1731402000-1731423600@www.tngas.org
SUMMARY:Farm Taps - Lenoir City Utilities
DESCRIPTION: \n
URL:https://www.tngas.org/event/farm-taps-lenoir-city-utilities/
LOCATION:7698 Creekwood Park Boulevard\, Lenoir City\, TN\, 37772
ORGANIZER;CN="Tennessee%20Gas%20Association":MAILTO:jwellman@tngas.org
END:VEVENT
END:VCALENDAR